BEGIN:VCALENDAR
VERSION:2.0
PRODID:-//Employment Solutions - ECPv6.15.20//NONSGML v1.0//EN
CALSCALE:GREGORIAN
METHOD:PUBLISH
X-WR-CALNAME:Employment Solutions
X-ORIGINAL-URL:https://www.employment-solutions.org
X-WR-CALDESC:Events for Employment Solutions
REFRESH-INTERVAL;VALUE=DURATION:PT1H
X-Robots-Tag:noindex
X-PUBLISHED-TTL:PT1H
BEGIN:VTIMEZONE
TZID:America/New_York
BEGIN:DAYLIGHT
TZOFFSETFROM:-0500
TZOFFSETTO:-0400
TZNAME:EDT
DTSTART:20180311T070000
END:DAYLIGHT
BEGIN:STANDARD
TZOFFSETFROM:-0400
TZOFFSETTO:-0500
TZNAME:EST
DTSTART:20181104T060000
END:STANDARD
BEGIN:DAYLIGHT
TZOFFSETFROM:-0500
TZOFFSETTO:-0400
TZNAME:EDT
DTSTART:20190310T070000
END:DAYLIGHT
BEGIN:STANDARD
TZOFFSETFROM:-0400
TZOFFSETTO:-0500
TZNAME:EST
DTSTART:20191103T060000
END:STANDARD
BEGIN:DAYLIGHT
TZOFFSETFROM:-0500
TZOFFSETTO:-0400
TZNAME:EDT
DTSTART:20200308T070000
END:DAYLIGHT
BEGIN:STANDARD
TZOFFSETFROM:-0400
TZOFFSETTO:-0500
TZNAME:EST
DTSTART:20201101T060000
END:STANDARD
END:VTIMEZONE
BEGIN:VEVENT
DTSTART;TZID=America/New_York:20191003T130000
DTEND;TZID=America/New_York:20191003T150000
DTSTAMP:20260425T224146
CREATED:20190823T144538Z
LAST-MODIFIED:20190823T144538Z
UID:8264-1570107600-1570114800@www.employment-solutions.org
SUMMARY:Job Club
DESCRIPTION:Come join our Job Club and take your job search to the next level!  This is not just another workshop… but active job searching in real time.  The Job Club leader and peer group will assist you in; finding job leads\, establishing contacts\, interview preparation\, fine-tuning your resume\, and providing material and emotional support.  Call to sign up – 905 788 3751\, walk-ins welcome! \nJoin us\, every Thursday from 1pm to 3pm \n@ Employment Solutions\, 825 Ontario Road\, Welland \nFree!  All Welcome!
URL:https://www.employment-solutions.org/event/job-finding-club-2-copy-copy-copy-copy-copy-copy-copy-copy-copy-copy-3/
CATEGORIES:Workshops
ORGANIZER;CN="Employment Solutions - Rose City Plaza":MAILTO:reception@employment-solutions.org
END:VEVENT
BEGIN:VEVENT
DTSTART;TZID=America/New_York:20191010T130000
DTEND;TZID=America/New_York:20191010T150000
DTSTAMP:20260425T224146
CREATED:20190823T144940Z
LAST-MODIFIED:20190823T144940Z
UID:8274-1570712400-1570719600@www.employment-solutions.org
SUMMARY:Job Club
DESCRIPTION:Come join our Job Club and take your job search to the next level!  This is not just another workshop… but active job searching in real time.  The Job Club leader and peer group will assist you in; finding job leads\, establishing contacts\, interview preparation\, fine-tuning your resume\, and providing material and emotional support.  Call to sign up – 905 788 3751\, walk-ins welcome! \nJoin us\, every Thursday from 1pm to 3pm \n@ Employment Solutions\, 825 Ontario Road\, Welland \nFree!  All Welcome!
URL:https://www.employment-solutions.org/event/job-finding-club-2-copy-copy-copy-copy-copy-copy-copy-copy-copy-copy-3-copy-copy/
CATEGORIES:Workshops
ORGANIZER;CN="Employment Solutions - Rose City Plaza":MAILTO:reception@employment-solutions.org
END:VEVENT
BEGIN:VEVENT
DTSTART;TZID=America/New_York:20191017T130000
DTEND;TZID=America/New_York:20191017T150000
DTSTAMP:20260425T224146
CREATED:20190823T145000Z
LAST-MODIFIED:20190823T145000Z
UID:8275-1571317200-1571324400@www.employment-solutions.org
SUMMARY:Job Club
DESCRIPTION:Come join our Job Club and take your job search to the next level!  This is not just another workshop… but active job searching in real time.  The Job Club leader and peer group will assist you in; finding job leads\, establishing contacts\, interview preparation\, fine-tuning your resume\, and providing material and emotional support.  Call to sign up – 905 788 3751\, walk-ins welcome! \nJoin us\, every Thursday from 1pm to 3pm \n@ Employment Solutions\, 825 Ontario Road\, Welland \nFree!  All Welcome!
URL:https://www.employment-solutions.org/event/job-finding-club-2-copy-copy-copy-copy-copy-copy-copy-copy-copy-copy-3-copy-copy-2/
CATEGORIES:Workshops
ORGANIZER;CN="Employment Solutions - Rose City Plaza":MAILTO:reception@employment-solutions.org
END:VEVENT
BEGIN:VEVENT
DTSTART;TZID=America/New_York:20191024T130000
DTEND;TZID=America/New_York:20191024T150000
DTSTAMP:20260425T224146
CREATED:20190823T145019Z
LAST-MODIFIED:20191018T170835Z
UID:8276-1571922000-1571929200@www.employment-solutions.org
SUMMARY:Job Club
DESCRIPTION:Come join our Job Club and take your job search to the next level!  This is not just another workshop… but active job searching in real time.  The Job Club leader and peer group will assist you in; finding job leads\, establishing contacts\, interview preparation\, fine-tuning your resume\, and providing material and emotional support.  Call to sign up – 905 788 3751\, walk-ins welcome! \nJoin us\, every Thursday from 1pm to 3pm \n@ Employment Solutions\, 825 Ontario Road\, Welland \nFree!  All Welcome!
URL:https://www.employment-solutions.org/event/job-finding-club-2-copy-copy-copy-copy-copy-copy-copy-copy-copy-copy-3-copy-copy-3/
LOCATION:Employment Solutions\, Rose City Plaza\, 825 Ontario Rd\, Welland\, Canada
CATEGORIES:Workshops,Workshops
ORGANIZER;CN="Employment Solutions - Rose City Plaza":MAILTO:reception@employment-solutions.org
END:VEVENT
BEGIN:VEVENT
DTSTART;TZID=America/New_York:20191031T130000
DTEND;TZID=America/New_York:20191031T150000
DTSTAMP:20260425T224146
CREATED:20190823T144905Z
LAST-MODIFIED:20191018T170750Z
UID:8272-1572526800-1572534000@www.employment-solutions.org
SUMMARY:Job Club
DESCRIPTION:Come join our Job Club and take your job search to the next level!  This is not just another workshop… but active job searching in real time.  The Job Club leader and peer group will assist you in; finding job leads\, establishing contacts\, interview preparation\, fine-tuning your resume\, and providing material and emotional support.  Call to sign up – 905 788 3751\, walk-ins welcome! \nJoin us\, every Thursday from 1pm to 3pm \n@ Employment Solutions\, 825 Ontario Road\, Welland \nFree!  All Welcome!
URL:https://www.employment-solutions.org/event/job-finding-club-2-copy-copy-copy-copy-copy-copy-copy-copy-copy-copy-3-copy/
LOCATION:Employment Solutions\, Rose City Plaza\, 825 Ontario Rd\, Welland\, Canada
CATEGORIES:Workshops,Workshops
ORGANIZER;CN="Employment Solutions - Rose City Plaza":MAILTO:reception@employment-solutions.org
END:VEVENT
END:VCALENDAR