BEGIN:VCALENDAR
VERSION:2.0
PRODID:-//Employment Solutions - ECPv6.15.15//NONSGML v1.0//EN
CALSCALE:GREGORIAN
METHOD:PUBLISH
X-WR-CALNAME:Employment Solutions
X-ORIGINAL-URL:https://www.employment-solutions.org
X-WR-CALDESC:Events for Employment Solutions
REFRESH-INTERVAL;VALUE=DURATION:PT1H
X-Robots-Tag:noindex
X-PUBLISHED-TTL:PT1H
BEGIN:VTIMEZONE
TZID:America/Toronto
BEGIN:DAYLIGHT
TZOFFSETFROM:-0500
TZOFFSETTO:-0400
TZNAME:EDT
DTSTART:20200308T070000
END:DAYLIGHT
BEGIN:STANDARD
TZOFFSETFROM:-0400
TZOFFSETTO:-0500
TZNAME:EST
DTSTART:20201101T060000
END:STANDARD
BEGIN:DAYLIGHT
TZOFFSETFROM:-0500
TZOFFSETTO:-0400
TZNAME:EDT
DTSTART:20210314T070000
END:DAYLIGHT
BEGIN:STANDARD
TZOFFSETFROM:-0400
TZOFFSETTO:-0500
TZNAME:EST
DTSTART:20211107T060000
END:STANDARD
BEGIN:DAYLIGHT
TZOFFSETFROM:-0500
TZOFFSETTO:-0400
TZNAME:EDT
DTSTART:20220313T070000
END:DAYLIGHT
BEGIN:STANDARD
TZOFFSETFROM:-0400
TZOFFSETTO:-0500
TZNAME:EST
DTSTART:20221106T060000
END:STANDARD
END:VTIMEZONE
BEGIN:VEVENT
DTSTART;TZID=America/Toronto:20210223T100000
DTEND;TZID=America/Toronto:20210223T110000
DTSTAMP:20260422T223513
CREATED:20200519T163358Z
LAST-MODIFIED:20210128T004051Z
UID:11447-1614074400-1614078000@www.employment-solutions.org
SUMMARY:Applying for Jobs Online Workshop
DESCRIPTION:Applying for jobs on line is the most common way we apply for work now. This workshop will show you the best practices\, techniques and other hazards you should avoid when applying for work online. Every website and job posting you are viewing while job searching are not created equally and ensuring your investing your valuable time on the right ones is important. Be a better online job searcher and protect yourself online at the same time. \nClick here to register 
URL:https://www.employment-solutions.org/event/applying-for-jobs-online/
CATEGORIES:Workshops,Workshops
ATTACH;FMTTYPE=image/jpeg:https://www.employment-solutions.org/wp-content/uploads/2020/05/female_student_close_up_in_business_casual_working_on_computer.jpg
END:VEVENT
BEGIN:VEVENT
DTSTART;TZID=America/Toronto:20210224T140000
DTEND;TZID=America/Toronto:20210224T150000
DTSTAMP:20260422T223513
CREATED:20200519T160155Z
LAST-MODIFIED:20210129T171034Z
UID:11443-1614175200-1614178800@www.employment-solutions.org
SUMMARY:Writing Effective Resumes and Cover Letters Workshop
DESCRIPTION:Resumes and Cover Letters make your first impression with your future employers when you are not there\, you need to make sure they represent you well.  As a job seeker investing quality time and putting together a great application is crucial to effective job searching.  This workshop breaks down exactly what a resume and cover letter need to include to make sure your application is not lost in the shuffle. \nThis session will be lead by Employment Solutions staff over Zoom and be able to answer your questions throughout the presentation.  They will also provide information about Employment Solutions free employment advising available to job seekers in Niagara. \nTo register please click here. 
URL:https://www.employment-solutions.org/event/writing-effective-resumes-and-cover-letters-workshop/
CATEGORIES:Workshops,Workshops
ATTACH;FMTTYPE=image/png:https://www.employment-solutions.org/wp-content/uploads/2020/05/how-far-back-should-a-resume-go-graphic.png
END:VEVENT
END:VCALENDAR