BEGIN:VCALENDAR
VERSION:2.0
PRODID:-//Employment Solutions - ECPv6.15.15//NONSGML v1.0//EN
CALSCALE:GREGORIAN
METHOD:PUBLISH
X-WR-CALNAME:Employment Solutions
X-ORIGINAL-URL:https://www.employment-solutions.org
X-WR-CALDESC:Events for Employment Solutions
REFRESH-INTERVAL;VALUE=DURATION:PT1H
X-Robots-Tag:noindex
X-PUBLISHED-TTL:PT1H
BEGIN:VTIMEZONE
TZID:America/Toronto
BEGIN:DAYLIGHT
TZOFFSETFROM:-0500
TZOFFSETTO:-0400
TZNAME:EDT
DTSTART:20140309T070000
END:DAYLIGHT
BEGIN:STANDARD
TZOFFSETFROM:-0400
TZOFFSETTO:-0500
TZNAME:EST
DTSTART:20141102T060000
END:STANDARD
BEGIN:DAYLIGHT
TZOFFSETFROM:-0500
TZOFFSETTO:-0400
TZNAME:EDT
DTSTART:20150308T070000
END:DAYLIGHT
BEGIN:STANDARD
TZOFFSETFROM:-0400
TZOFFSETTO:-0500
TZNAME:EST
DTSTART:20151101T060000
END:STANDARD
BEGIN:DAYLIGHT
TZOFFSETFROM:-0500
TZOFFSETTO:-0400
TZNAME:EDT
DTSTART:20160313T070000
END:DAYLIGHT
BEGIN:STANDARD
TZOFFSETFROM:-0400
TZOFFSETTO:-0500
TZNAME:EST
DTSTART:20161106T060000
END:STANDARD
END:VTIMEZONE
BEGIN:VEVENT
DTSTART;TZID=America/Toronto:20150724T100000
DTEND;TZID=America/Toronto:20150724T110000
DTSTAMP:20260421T204159
CREATED:20150629T131737Z
LAST-MODIFIED:20150629T131737Z
UID:1912-1437732000-1437735600@www.employment-solutions.org
SUMMARY:Second Career Info Session
DESCRIPTION:Second Career is an Ontario government program that enables laid off Ontarian s to train for a new job that is in high demand. \nPlease call 905 788 3751 to register.
URL:https://www.employment-solutions.org/event/second-career-info-session-8-3-2-2-2-2-2-2-4-2-3-2-2-5-3-2-3-2-2-2-3-3-3-2-2-2-2/
LOCATION:Employment Solutions\, 3 East Main Street\, Welland\, Ontario\, L3B 3W4\, Canada
CATEGORIES:Workshops
ORGANIZER;CN="Employment Solutions Seaway":MAILTO:seawayreception@employment-solutions.org
END:VEVENT
BEGIN:VEVENT
DTSTART;TZID=America/Toronto:20150716T143000
DTEND;TZID=America/Toronto:20150716T160000
DTSTAMP:20260421T204159
CREATED:20150629T131714Z
LAST-MODIFIED:20150629T131714Z
UID:1911-1437057000-1437062400@www.employment-solutions.org
SUMMARY:Managing Your On-line Reputation
DESCRIPTION:  \nDo you worry about what prospective employers will see when they ”google you” before the interview? Learn how to find and clean up your digital trail before it gets in the way of your next job! Small groups … personal attention! \nPlease call 905-788-3751 to register!
URL:https://www.employment-solutions.org/event/managing-your-on-line-reputation-3/
LOCATION:Employment Solution\, 825 Ontario Rd.\, Welland\, Ontario\, L3B 5V6\, Canada
CATEGORIES:Workshops
ORGANIZER;CN="Employment Solutions Seaway":MAILTO:seawayreception@employment-solutions.org
END:VEVENT
BEGIN:VEVENT
DTSTART;TZID=America/Toronto:20150714T143000
DTEND;TZID=America/Toronto:20150714T160000
DTSTAMP:20260421T204159
CREATED:20150629T130834Z
LAST-MODIFIED:20150629T130834Z
UID:1910-1436884200-1436889600@www.employment-solutions.org
SUMMARY:On-line Applications
DESCRIPTION:Are you applying to jobs and never hearing back? Or worse\, getting strange responses from companies that don’t seem to exist? Come and learn ho to do it right. \nPlease call 905-788-3751 to register. \n  \n  \n  \n  \n 
URL:https://www.employment-solutions.org/event/on-line-applications/
LOCATION:Employment Solution\, 825 Ontario Rd.\, Welland\, Ontario\, L3B 5V6\, Canada
CATEGORIES:Workshops
ORGANIZER;CN="Employment Solutions Seaway":MAILTO:seawayreception@employment-solutions.org
END:VEVENT
BEGIN:VEVENT
DTSTART;TZID=America/Toronto:20150714T093000
DTEND;TZID=America/Toronto:20150714T120000
DTSTAMP:20260421T204159
CREATED:20150629T130116Z
LAST-MODIFIED:20150629T130116Z
UID:1909-1436866200-1436875200@www.employment-solutions.org
SUMMARY:Traffic Control - Certificate
DESCRIPTION:If you’re considering a career in the road construction industry\, this workshop is for you. Receive a Construction Traffic Control Persons Certificate upon completion. \nPlease call 905-788-3751 to register.
URL:https://www.employment-solutions.org/event/traffic-control-2-2-2-2-3-2-2/
LOCATION:Employment Solutions\, 3 East Main Street\, Welland\, Ontario\, Canada
CATEGORIES:Certificate Training
ORGANIZER;CN="Employment Solutions Seaway":MAILTO:seawayreception@employment-solutions.org
END:VEVENT
BEGIN:VEVENT
DTSTART;TZID=America/Toronto:20150710T100000
DTEND;TZID=America/Toronto:20150710T110000
DTSTAMP:20260421T204159
CREATED:20150629T125948Z
LAST-MODIFIED:20150629T125948Z
UID:1908-1436522400-1436526000@www.employment-solutions.org
SUMMARY:Second Career Info Session
DESCRIPTION:Second Career is an Ontario government program that enables laid off Ontarian s to train for a new job that is in high demand. \nPlease call 905 788 3751 to register.
URL:https://www.employment-solutions.org/event/second-career-info-session-8-3-2-2-2-2-2-2-4-2-3-2-2-5-3-2-3-2-2-2-3-3-3-2-2-2/
LOCATION:Employment Solutions\, 3 East Main Street\, Welland\, Ontario\, L3B 3W4\, Canada
CATEGORIES:Workshops
ORGANIZER;CN="Employment Solutions Seaway":MAILTO:seawayreception@employment-solutions.org
END:VEVENT
BEGIN:VEVENT
DTSTART;TZID=America/Toronto:20150709T093000
DTEND;TZID=America/Toronto:20150709T120000
DTSTAMP:20260421T204159
CREATED:20150629T125831Z
LAST-MODIFIED:20150629T125831Z
UID:1907-1436434200-1436443200@www.employment-solutions.org
SUMMARY:WHMIS Training - Certificate
DESCRIPTION:WHMIS Certificate training will provide the learner: \nThe meaning of Workplace Hazardous Materials Information System and how it works \nThe responsibilities of the supplier\, employer and worker \nThe classes of hazardous materials \nThe effects of hazardous materials \nAppropriate emergency responses for a variety of hazardous materials \nHow to read and interpret standardized WHMIS labeling\, marking and other identification methods \nHow to read and interpret WHMIS Materials Safety Data Sheets (MSDS) \nHow to improve safe working conditions and safe work practices \n  \nPlease call 905 788 3751 to register.
URL:https://www.employment-solutions.org/event/whmis-training-2-2-2-2-3-2-2-3-2-2-2-2-2-2/
LOCATION:Employment Solutions\, 3 East Main Street\, Welland\, Ontario\, L3B3W4\, Canada
CATEGORIES:Certificate Training
ORGANIZER;CN="Employment Solutions Seaway":MAILTO:seawayreception@employment-solutions.org
END:VEVENT
BEGIN:VEVENT
DTSTART;TZID=America/Toronto:20150706T090000
DTEND;TZID=America/Toronto:20150706T130000
DTSTAMP:20260421T204159
CREATED:20150629T125651Z
LAST-MODIFIED:20150629T125651Z
UID:1906-1436173200-1436187600@www.employment-solutions.org
SUMMARY:SMART SERVE- Certificate
DESCRIPTION:This certificate will provide the learner the general principals of safe food handling including topics such as public health legislation\, food microbiology\, food allergies\, temperature controls\, cross contamination\, personal hygiene\, cleaning and sanitizing. \nPlease call 905 788 3751 to register.
URL:https://www.employment-solutions.org/event/smart-serve-certificate-2-2-2-2-2-2-2-3-2-2-2-2-2-2-2/
LOCATION:Employment Solutions\, 825 Ontario Rd.\, Welland\, Ontario\, L3B 5V6\, Canada
CATEGORIES:Certificate Training
ORGANIZER;CN="Employment Solutions Seaway":MAILTO:seawayreception@employment-solutions.org
END:VEVENT
BEGIN:VEVENT
DTSTART;TZID=America/Toronto:20150629T090000
DTEND;TZID=America/Toronto:20150630T150000
DTSTAMP:20260421T204159
CREATED:20150527T140106Z
LAST-MODIFIED:20150527T140106Z
UID:1855-1435568400-1435676400@www.employment-solutions.org
SUMMARY:Safe Food Handling - Certificate
DESCRIPTION:This certificate will provide the learner the general principals of safe food handling including topics such as public health legislation\, food microbiology\, food allergies\, temperature controls\, cross contamination\, personal hygiene\, cleaning and sanitizing. \nPlease call 905-788-3751 to register.
URL:https://www.employment-solutions.org/event/safe-food-handling-3-2-2-2-2-2-2-2/
LOCATION:Employment Solutions\, 825 Ontario Rd.\, Welland\, Ontario\, L3B 5V6\, Canada
CATEGORIES:Certificate Training
ORGANIZER;CN="Employment Solutions Seaway":MAILTO:seawayreception@employment-solutions.org
END:VEVENT
BEGIN:VEVENT
DTSTART;TZID=America/Toronto:20150626T100000
DTEND;TZID=America/Toronto:20150626T110000
DTSTAMP:20260421T204159
CREATED:20150427T132045Z
LAST-MODIFIED:20150427T132045Z
UID:1854-1435312800-1435316400@www.employment-solutions.org
SUMMARY:Second Career Info Session
DESCRIPTION:Second Career is an Ontario government program that enables laid off Ontarian s to train for a new job that is in high demand. \nPlease call 905 788 3751 to register.
URL:https://www.employment-solutions.org/event/second-career-info-session-8-3-2-2-2-2-2-2-4-2-3-2-2-5-3-2-3-2-2-2-3-3-3-2-2/
LOCATION:Employment Solutions\, 3 East Main Street\, Welland\, Ontario\, L3B 3W4\, Canada
CATEGORIES:Workshops
ORGANIZER;CN="Employment Solutions Seaway":MAILTO:seawayreception@employment-solutions.org
END:VEVENT
BEGIN:VEVENT
DTSTART;TZID=America/Toronto:20150624T090000
DTEND;TZID=America/Toronto:20150625T160000
DTSTAMP:20260421T204159
CREATED:20150427T130043Z
LAST-MODIFIED:20150427T130043Z
UID:1852-1435136400-1435248000@www.employment-solutions.org
SUMMARY:First Aid/CPR-Level C/AED - Certificate
DESCRIPTION:Standard First Aid \nDesigned to meet Industry\, business and government requirements. Cardiopulmonary Resuscitation (CPR) and Automated External Defibrillation (AED) is a life saving technique that is revolutionizing first aid and pre-hospital cardiac care. \nTwo day Course \nPlease call 905-788-3751 to register.
URL:https://www.employment-solutions.org/event/first-aidcpr-2-2-2-2-2-2-2-2-2-2-3-2-2/
LOCATION:Employment Solutions\, 825 Ontario Rd.\, Welland\, Ontario\, L3B 5V6\, Canada
CATEGORIES:Certificate Training
END:VEVENT
BEGIN:VEVENT
DTSTART;TZID=America/Toronto:20150618T143000
DTEND;TZID=America/Toronto:20150618T160000
DTSTAMP:20260421T204159
CREATED:20150529T173619Z
LAST-MODIFIED:20150529T173619Z
UID:1851-1434637800-1434643200@www.employment-solutions.org
SUMMARY:Managing Your On-line Reputation
DESCRIPTION:Do you worry what prospective employers will see when they “google you” before the interview? Learn how to find and clean up your digital trail before it gets in the way of your next job! \nFree workshop. \nCall us 905-788-3751 to register.
URL:https://www.employment-solutions.org/event/managing-your-on-line-reputation-2/
LOCATION:Ontario
END:VEVENT
BEGIN:VEVENT
DTSTART;TZID=America/Toronto:20150616T143000
DTEND;TZID=America/Toronto:20150616T160000
DTSTAMP:20260421T204159
CREATED:20150529T172130Z
LAST-MODIFIED:20150529T172130Z
UID:1849-1434465000-1434470400@www.employment-solutions.org
SUMMARY:On-line Applications
DESCRIPTION:Are you applying online to jobs and never hearing back? Or worse\, getting strange responses from companies that don’t seem to exist? Come and learn how to do it right. \nFREE Workshop. \nPlease call 905-788-3751 to register.
URL:https://www.employment-solutions.org/event/managing-your-on-line-reputation/
LOCATION:Employment Solutions\, 3 East Main Street\, Welland\, Ontario\, L3B3W4\, Canada
ORGANIZER;CN="Employment Solutions":MAILTO:reception@employment-solutions.org
END:VEVENT
BEGIN:VEVENT
DTSTART;TZID=America/Toronto:20150616T093000
DTEND;TZID=America/Toronto:20150616T120000
DTSTAMP:20260421T204159
CREATED:20150528T173019Z
LAST-MODIFIED:20150528T173019Z
UID:1848-1434447000-1434456000@www.employment-solutions.org
SUMMARY:Traffic Control - Certificate
DESCRIPTION:If you’re considering a career in the road construction industry\, this workshop is for you. Receive a Construction Traffic Control Persons Certificate upon completion. \nPlease call 905-788-3751 to register.
URL:https://www.employment-solutions.org/event/traffic-control-2-2-2-2-3-2/
LOCATION:Employment Solutions\, 3 East Main Street\, Welland\, Ontario\, Canada
CATEGORIES:Certificate Training
ORGANIZER;CN="Employment Solutions Seaway":MAILTO:seawayreception@employment-solutions.org
END:VEVENT
BEGIN:VEVENT
DTSTART;TZID=America/Toronto:20150612T100000
DTEND;TZID=America/Toronto:20150612T110000
DTSTAMP:20260421T204159
CREATED:20150427T132045Z
LAST-MODIFIED:20150427T132045Z
UID:1847-1434103200-1434106800@www.employment-solutions.org
SUMMARY:Second Career Info Session
DESCRIPTION:Second Career is an Ontario government program that enables laid off Ontarian s to train for a new job that is in high demand. \nPlease call 905 788 3751 to register.
URL:https://www.employment-solutions.org/event/second-career-info-session-8-3-2-2-2-2-2-2-4-2-3-2-2-5-3-2-3-2-2-2-3-3-3-2/
LOCATION:Employment Solutions\, 3 East Main Street\, Welland\, Ontario\, L3B 3W4\, Canada
CATEGORIES:Workshops
ORGANIZER;CN="Employment Solutions Seaway":MAILTO:seawayreception@employment-solutions.org
END:VEVENT
BEGIN:VEVENT
DTSTART;TZID=America/Toronto:20150611T120000
DTEND;TZID=America/Toronto:20150611T160000
DTSTAMP:20260421T204159
CREATED:20150602T170849Z
LAST-MODIFIED:20150602T170849Z
UID:1865-1434024000-1434038400@www.employment-solutions.org
SUMMARY:JOB FAIR
DESCRIPTION:Thursday June 11th 2015 \n12pm to 4pm \nIN THE LEAD INC. \nWork from Home – Telephone Booking Positions  \nIn The Lead Inc. is currently seeking Home Reps for their new Outbound Call Centre Facility. It is fast growing company with plenty of potential for advancement. There is no weekend work and you work Monday to Friday 9am to 5pm from home when you can in a Commission based format. \n\n\n\nJob RequirementsSales experience is an asset \nExcellent communication skills\, both verbal and written \nConfident and outgoing personality \nEntrepreneurial attitude \nPrevious Telesales or Telemarketing a benefit \nWilling to work for 100% Commission\nWhat to bringCopy of your resume \nBe prepared for a face to face interview \n  \nLocation \nEmployment Solutions \n3 East Main Street\, Welland ON.\n\n\n\n  \nFor more information call 905-788-3751 or visit www.employment-solutions.org
URL:https://www.employment-solutions.org/event/job-fair-4/
LOCATION:Employment Solutions\, 3 East Main Street\, Welland\, Ontario\, L3B3W4\, Canada
CATEGORIES:Job Fair
ORGANIZER;CN="Employment Solutions Seaway":MAILTO:seawayreception@employment-solutions.org
END:VEVENT
BEGIN:VEVENT
DTSTART;TZID=America/Toronto:20150611T093000
DTEND;TZID=America/Toronto:20150611T120000
DTSTAMP:20260421T204159
CREATED:20150527T201439Z
LAST-MODIFIED:20150527T201439Z
UID:1845-1434015000-1434024000@www.employment-solutions.org
SUMMARY:WHMIS Training - Certificate
DESCRIPTION:WHMIS Certificate training will provide the learner: \nThe meaning of Workplace Hazardous Materials Information System and how it works \nThe responsibilities of the supplier\, employer and worker \nThe classes of hazardous materials \nThe effects of hazardous materials \nAppropriate emergency responses for a variety of hazardous materials \nHow to read and interpret standardized WHMIS labeling\, marking and other identification methods \nHow to read and interpret WHMIS Materials Safety Data Sheets (MSDS) \nHow to improve safe working conditions and safe work practices \n  \nPlease call 905 788 3751 to register.
URL:https://www.employment-solutions.org/event/whmis-training-2-2-2-2-3-2-2-3-2-2-2-2-2/
LOCATION:Employment Solutions\, 3 East Main Street\, Welland\, Ontario\, L3B3W4\, Canada
CATEGORIES:Certificate Training
ORGANIZER;CN="":MAILTO:reception@employment-solutions.org
END:VEVENT
BEGIN:VEVENT
DTSTART;TZID=America/Toronto:20150609T090000
DTEND;TZID=America/Toronto:20150609T130000
DTSTAMP:20260421T204159
CREATED:20140417T123005Z
LAST-MODIFIED:20140417T123005Z
UID:1843-1433840400-1433854800@www.employment-solutions.org
SUMMARY:SMART SERVE- Certificate
DESCRIPTION:This certificate will provide the learner the general principals of safe food handling including topics such as public health legislation\, food microbiology\, food allergies\, temperature controls\, cross contamination\, personal hygiene\, cleaning and sanitizing. \nPlease call 905 788 3751 to register.
URL:https://www.employment-solutions.org/event/smart-serve-certificate-2-2-2-2-2-2-2-3-2-2-2-2-2-2/
LOCATION:Employment Solutions\, 825 Ontario Rd.\, Welland\, Ontario\, L3B 5V6\, Canada
CATEGORIES:Certificate Training
ORGANIZER;CN="":MAILTO:reception@employment-solutions.org
END:VEVENT
BEGIN:VEVENT
DTSTART;TZID=America/Toronto:20150608T100000
DTEND;TZID=America/Toronto:20150608T110000
DTSTAMP:20260421T204159
CREATED:20140307T141451Z
LAST-MODIFIED:20140307T141451Z
UID:1842-1433757600-1433761200@www.employment-solutions.org
SUMMARY:Resume Clinic
DESCRIPTION:Many job seekers don’t know what it takes to stand out from their competition and leave a lasting impression on employers. Our knowledgeable and talented staff are #1 in assisting clients with writing the best resumes. If you need a new resume or an update to the one you have\, this workshop is for you! \nPlease call 905 788 3751 to register.
URL:https://www.employment-solutions.org/event/resume-writing-3-2-2-2-2-2-2-2-3-2-2-2-2-2/
LOCATION:Employment Solutions\, 3 Esat Main St\, Welland\, Canada
CATEGORIES:Workshops
ORGANIZER;CN="Employment Solutions Seaway":MAILTO:seawayreception@employment-solutions.org
END:VEVENT
BEGIN:VEVENT
DTSTART;TZID=America/Toronto:20150527T090000
DTEND;TZID=America/Toronto:20150528T161500
DTSTAMP:20260421T204159
CREATED:20150427T130043Z
LAST-MODIFIED:20150427T130043Z
UID:1787-1432717200-1432829700@www.employment-solutions.org
SUMMARY:First Aid/CPR-Level C/AED - Certificate
DESCRIPTION:Standard First Aid \nDesigned to meet Industry\, business and government requirements. Cardiopulmonary Resuscitation (CPR) and Automated External Defibrillation (AED) is a life saving technique that is revolutionizing first aid and pre-hospital cardiac care. \nTwo day Course \nPlease call 905-788-3751 to register.
URL:https://www.employment-solutions.org/event/first-aidcpr-2-2-2-2-2-2-2-2-2-2-3-2/
LOCATION:Employment Solutions\, 825 Ontario Rd.\, Welland\, Ontario\, L3B 5V6\, Canada
CATEGORIES:Certificate Training
END:VEVENT
BEGIN:VEVENT
DTSTART;TZID=America/Toronto:20150525T090000
DTEND;TZID=America/Toronto:20150526T153000
DTSTAMP:20260421T204159
CREATED:20140427T140106Z
LAST-MODIFIED:20140427T140106Z
UID:1785-1432544400-1432654200@www.employment-solutions.org
SUMMARY:Safe Food Handling - Certificate
DESCRIPTION:This certificate will provide the learner the general principals of safe food handling including topics such as public health legislation\, food microbiology\, food allergies\, temperature controls\, cross contamination\, personal hygiene\, cleaning and sanitizing. \nPlease call 905-788-3751 to register.
URL:https://www.employment-solutions.org/event/safe-food-handling-3-2-2-2-2-2-2/
LOCATION:Employment Solutions\, 825 Ontario Rd.\, Welland\, Ontario\, L3B 5V6\, Canada
CATEGORIES:Certificate Training
ORGANIZER;CN="Employment Solutions Seaway":MAILTO:seawayreception@employment-solutions.org
END:VEVENT
BEGIN:VEVENT
DTSTART;TZID=America/Toronto:20150522T100000
DTEND;TZID=America/Toronto:20150522T110000
DTSTAMP:20260421T204159
CREATED:20150427T132045Z
LAST-MODIFIED:20150427T132045Z
UID:1786-1432288800-1432292400@www.employment-solutions.org
SUMMARY:Second Career Info Session
DESCRIPTION:Second Career is an Ontario government program that enables laid off Ontarian s to train for a new job that is in high demand. \nPlease call 905 788 3751 to register.
URL:https://www.employment-solutions.org/event/second-career-info-session-8-3-2-2-2-2-2-2-4-2-3-2-2-5-3-2-3-2-2-2-3-3-3/
LOCATION:Employment Solutions\, 3 East Main Street\, Welland\, Ontario\, L3B 3W4\, Canada
CATEGORIES:Workshops
ORGANIZER;CN="Employment Solutions Seaway":MAILTO:seawayreception@employment-solutions.org
END:VEVENT
BEGIN:VEVENT
DTSTART;TZID=America/Toronto:20150521T090000
DTEND;TZID=America/Toronto:20150522T143000
DTSTAMP:20260421T204159
CREATED:20150427T164244Z
LAST-MODIFIED:20150427T164244Z
UID:1788-1432198800-1432305000@www.employment-solutions.org
SUMMARY:Wheel of Workshops
DESCRIPTION:Join us for 2 days of job Search Survival Skills. \nDay 1: Resumes\, Interviews\, Cover Letters\, Dressing and Grooming! \nDay 2: Job Retention\, Conflict Resolution\, Stress Management\, and Where are the Jobs? \nParticipants can sign up for both days or pick selected workshops that appeal to them. More workshop details and times can be seen at 3 East Main St\, Welland\, ON \nPlease call 905-788-3751 to register.
URL:https://www.employment-solutions.org/event/wheel-of-workshops-2-2-2-2-2-2-2/
LOCATION:Employment Solutions\, 3 East Main St\, Welland\, Canada
CATEGORIES:Workshops
ORGANIZER;CN="Employment Solutions Seaway":MAILTO:seawayreception@employment-solutions.org
END:VEVENT
BEGIN:VEVENT
DTSTART;TZID=America/Toronto:20150512T093000
DTEND;TZID=America/Toronto:20150512T120000
DTSTAMP:20260421T204159
CREATED:20140521T173019Z
LAST-MODIFIED:20140521T173019Z
UID:1782-1431423000-1431432000@www.employment-solutions.org
SUMMARY:Traffic Control - Certificate
DESCRIPTION:If you’re considering a career in the road construction industry\, this workshop is for you. Receive a Construction Traffic Control Persons Certificate upon completion. \nPlease call 905-788-3751 to register.
URL:https://www.employment-solutions.org/event/traffic-control-2-2-2-2-3/
LOCATION:Employment Solutions\, 3 East Main Street\, Welland\, Ontario\, Canada
CATEGORIES:Certificate Training
ORGANIZER;CN="Employment Solutions Seaway":MAILTO:seawayreception@employment-solutions.org
END:VEVENT
BEGIN:VEVENT
DTSTART;TZID=America/Toronto:20150507T100000
DTEND;TZID=America/Toronto:20150507T110000
DTSTAMP:20260421T204159
CREATED:20140417T132045Z
LAST-MODIFIED:20140417T132045Z
UID:1780-1430992800-1430996400@www.employment-solutions.org
SUMMARY:OSEB info session
DESCRIPTION:Are you out of work & EI eligible? Do you have a business Idea? The Ontario Self-Employment Benefit Program could be the opportunity you have been looking for. \nPlease call 905-788-3751 to register.
URL:https://www.employment-solutions.org/event/second-career-info-session-8-3-2-2-2-2-2-2-4-2-3-2-2-2-2-2-2-2-2-2-2/
LOCATION:Employment Solutions\, 3 East Main Street\, Welland\, Ontario\, L3B 3W4\, Canada
CATEGORIES:Workshops
END:VEVENT
BEGIN:VEVENT
DTSTART;TZID=America/Toronto:20150505T090000
DTEND;TZID=America/Toronto:20150505T130000
DTSTAMP:20260421T204159
CREATED:20140417T123005Z
LAST-MODIFIED:20140417T123005Z
UID:1779-1430816400-1430830800@www.employment-solutions.org
SUMMARY:SMART SERVE- Certificate
DESCRIPTION:This certificate will provide the learner the general principals of safe food handling including topics such as public health legislation\, food microbiology\, food allergies\, temperature controls\, cross contamination\, personal hygiene\, cleaning and sanitizing. \nPlease call 905 788 3751 to register.
URL:https://www.employment-solutions.org/event/smart-serve-certificate-2-2-2-2-2-2-2-3-2-2-2-2-2/
LOCATION:Employment Solutions\, 825 Ontario Rd.\, Welland\, Ontario\, L3B 5V6\, Canada
CATEGORIES:Certificate Training
ORGANIZER;CN="":MAILTO:reception@employment-solutions.org
END:VEVENT
BEGIN:VEVENT
DTSTART;TZID=America/Toronto:20150504T100000
DTEND;TZID=America/Toronto:20150504T110000
DTSTAMP:20260421T204159
CREATED:20140307T141451Z
LAST-MODIFIED:20140307T141451Z
UID:1778-1430733600-1430737200@www.employment-solutions.org
SUMMARY:Resume Clinic
DESCRIPTION:Many job seekers don’t know what it takes to stand out from their competition and leave a lasting impression on employers. Our knowledgeable and talented staff are #1 in assisting clients with writing the best resumes. If you need a new resume or an update to the one you have\, this workshop is for you! \nPlease call 905 788 3751 to register.
URL:https://www.employment-solutions.org/event/resume-writing-3-2-2-2-2-2-2-2-3-2-2-2-2/
LOCATION:Employment Solutions\, 3 Esat Main St\, Welland\, Canada
CATEGORIES:Workshops
ORGANIZER;CN="Employment Solutions Seaway":MAILTO:seawayreception@employment-solutions.org
END:VEVENT
BEGIN:VEVENT
DTSTART;TZID=America/Toronto:20150424T100000
DTEND;TZID=America/Toronto:20150424T110000
DTSTAMP:20260421T204159
CREATED:20140417T132045Z
LAST-MODIFIED:20140417T132045Z
UID:1691-1429869600-1429873200@www.employment-solutions.org
SUMMARY:Second Career Info Session
DESCRIPTION:Second Career is an Ontario government program that enables laid off Ontarian s to train for a new job that is in high demand. \nPlease call 905 788 3751 to register.
URL:https://www.employment-solutions.org/event/second-career-info-session-8-3-2-2-2-2-2-2-4-2-3-2-2-5-3-2-3-2-2-2-3-3/
LOCATION:Employment Solutions\, 3 East Main Street\, Welland\, Ontario\, L3B 3W4\, Canada
CATEGORIES:Workshops
ORGANIZER;CN="Employment Solutions Seaway":MAILTO:seawayreception@employment-solutions.org
END:VEVENT
BEGIN:VEVENT
DTSTART;TZID=America/Toronto:20150423T090000
DTEND;TZID=America/Toronto:20150424T153000
DTSTAMP:20260421T204159
CREATED:20140311T140106Z
LAST-MODIFIED:20140311T140106Z
UID:1693-1429779600-1429889400@www.employment-solutions.org
SUMMARY:Safe Food Handling - Certificate
DESCRIPTION:This certificate will provide the learner the general principals of safe food handling including topics such as public health legislation\, food microbiology\, food allergies\, temperature controls\, cross contamination\, personal hygiene\, cleaning and sanitizing. \nPlease call 905-788-3751 to register.
URL:https://www.employment-solutions.org/event/safe-food-handling-3-2-2-2-2-2/
LOCATION:Employment Solutions\, 825 Ontario Rd.\, Welland\, Ontario\, L3B 5V6\, Canada
CATEGORIES:Certificate Training
ORGANIZER;CN="Employment Solutions Seaway":MAILTO:seawayreception@employment-solutions.org
END:VEVENT
BEGIN:VEVENT
DTSTART;TZID=America/Toronto:20150420T100000
DTEND;TZID=America/Toronto:20150420T110000
DTSTAMP:20260421T204159
CREATED:20140307T141451Z
LAST-MODIFIED:20140307T141451Z
UID:1692-1429524000-1429527600@www.employment-solutions.org
SUMMARY:Resume Clinic
DESCRIPTION:Many job seekers don’t know what it takes to stand out from their competition and leave a lasting impression on employers. Our knowledgeable and talented staff are #1 in assisting clients with writing the best resumes. If you need a new resume or an update to the one you have\, this workshop is for you! \nPlease call 905 788 3751 to register.
URL:https://www.employment-solutions.org/event/resume-writing-3-2-2-2-2-2-2-2-3-2-2-2/
LOCATION:Employment Solutions\, 3 Esat Main St\, Welland\, Canada
CATEGORIES:Workshops
ORGANIZER;CN="Employment Solutions Seaway":MAILTO:seawayreception@employment-solutions.org
END:VEVENT
BEGIN:VEVENT
DTSTART;TZID=America/Toronto:20150417T140000
DTEND;TZID=America/Toronto:20150417T150000
DTSTAMP:20260421T204159
CREATED:20140417T132045Z
LAST-MODIFIED:20140417T132045Z
UID:1694-1429279200-1429282800@www.employment-solutions.org
SUMMARY:Second Career Info Session
DESCRIPTION:Second Career is an Ontario government program that enables laid off Ontarian s to train for a new job that is in high demand. \nPlease call 905 788 3751 to register.
URL:https://www.employment-solutions.org/event/second-career-info-session-8-3-2-2-2-2-2-2-4-2-3-2-2-5-3-2-3-2-2-2-3-3-2/
LOCATION:Employment Solutions\, 3 East Main Street\, Welland\, Ontario\, L3B 3W4\, Canada
CATEGORIES:Workshops
ORGANIZER;CN="Employment Solutions Seaway":MAILTO:seawayreception@employment-solutions.org
END:VEVENT
END:VCALENDAR