BEGIN:VCALENDAR
VERSION:2.0
PRODID:-//Employment Solutions - ECPv6.15.15//NONSGML v1.0//EN
CALSCALE:GREGORIAN
METHOD:PUBLISH
X-WR-CALNAME:Employment Solutions
X-ORIGINAL-URL:https://www.employment-solutions.org
X-WR-CALDESC:Events for Employment Solutions
REFRESH-INTERVAL;VALUE=DURATION:PT1H
X-Robots-Tag:noindex
X-PUBLISHED-TTL:PT1H
BEGIN:VTIMEZONE
TZID:America/Toronto
BEGIN:DAYLIGHT
TZOFFSETFROM:-0500
TZOFFSETTO:-0400
TZNAME:EDT
DTSTART:20130310T070000
END:DAYLIGHT
BEGIN:STANDARD
TZOFFSETFROM:-0400
TZOFFSETTO:-0500
TZNAME:EST
DTSTART:20131103T060000
END:STANDARD
BEGIN:DAYLIGHT
TZOFFSETFROM:-0500
TZOFFSETTO:-0400
TZNAME:EDT
DTSTART:20140309T070000
END:DAYLIGHT
BEGIN:STANDARD
TZOFFSETFROM:-0400
TZOFFSETTO:-0500
TZNAME:EST
DTSTART:20141102T060000
END:STANDARD
BEGIN:DAYLIGHT
TZOFFSETFROM:-0500
TZOFFSETTO:-0400
TZNAME:EDT
DTSTART:20150308T070000
END:DAYLIGHT
BEGIN:STANDARD
TZOFFSETFROM:-0400
TZOFFSETTO:-0500
TZNAME:EST
DTSTART:20151101T060000
END:STANDARD
BEGIN:DAYLIGHT
TZOFFSETFROM:-0500
TZOFFSETTO:-0400
TZNAME:EDT
DTSTART:20160313T070000
END:DAYLIGHT
BEGIN:STANDARD
TZOFFSETFROM:-0400
TZOFFSETTO:-0500
TZNAME:EST
DTSTART:20161106T060000
END:STANDARD
END:VTIMEZONE
BEGIN:VEVENT
DTSTART;TZID=America/Toronto:20150223T110000
DTEND;TZID=America/Toronto:20150223T160000
DTSTAMP:20260422T025231
CREATED:20140417T122001Z
LAST-MODIFIED:20140417T122001Z
UID:1587-1424689200-1424707200@www.employment-solutions.org
SUMMARY:DRESS FOR SUCCESS Follow Up
DESCRIPTION:Get your free outfit. \nCall 905-788-3751 to register.
URL:https://www.employment-solutions.org/event/dress-for-success-2-2-2/
LOCATION:Employment Solutions\, 3 East Main Street\, Welland\, L3B3W4\, Canada
CATEGORIES:Workshops
END:VEVENT
BEGIN:VEVENT
DTSTART;TZID=America/Toronto:20150223T100000
DTEND;TZID=America/Toronto:20150223T140000
DTSTAMP:20260422T025231
CREATED:20150213T204113Z
LAST-MODIFIED:20150213T204113Z
UID:1605-1424685600-1424700000@www.employment-solutions.org
SUMMARY:Job Fair
DESCRIPTION:ATTENTION JOB SEEKERS! \nSuperior Laundry is looking for full time Production Workers and Delivery Drivers. \nWHEN: Monday Feb 23rd 2015 from 10:00 am to 2:00 pm \nWHERE: Employment Solutions  3 East Main Street\, Welland \n905.788.3751 \nPlease bring a resume and be prepared for an interview
URL:https://www.employment-solutions.org/event/job-fair-3/
LOCATION:Employment Solutions\, 3 East Main Street\, Welland\, Ontario\, L3B3W4\, Canada
CATEGORIES:Job Fair
END:VEVENT
BEGIN:VEVENT
DTSTART;TZID=America/Toronto:20150223T100000
DTEND;TZID=America/Toronto:20150223T110000
DTSTAMP:20260422T025231
CREATED:20140307T141451Z
LAST-MODIFIED:20140307T141451Z
UID:1570-1424685600-1424689200@www.employment-solutions.org
SUMMARY:Resume Clinic
DESCRIPTION:Many job seekers don’t know what it takes to stand out from their competition and leave a lasting impression on employers. Our knowledgeable and talented staff are #1 in assisting clients with writing the best resumes. If you need a new resume or an update to the one you have\, this workshop is for you! \nPlease call 905 788 3751 to register.
URL:https://www.employment-solutions.org/event/resume-writing-3-2-2-2-2-2-2-2/
LOCATION:Employment Solutions\, 3 Esat Main St\, Welland\, Canada
CATEGORIES:Workshops
END:VEVENT
BEGIN:VEVENT
DTSTART;TZID=America/Toronto:20150223T100000
DTEND;TZID=America/Toronto:20150223T110000
DTSTAMP:20260422T025231
CREATED:20140307T141451Z
LAST-MODIFIED:20140307T141451Z
UID:1629-1424685600-1424689200@www.employment-solutions.org
SUMMARY:Resume Clinic
DESCRIPTION:Many job seekers don’t know what it takes to stand out from their competition and leave a lasting impression on employers. Our knowledgeable and talented staff are #1 in assisting clients with writing the best resumes. If you need a new resume or an update to the one you have\, this workshop is for you! \nPlease call 905 788 3751 to register.
URL:https://www.employment-solutions.org/event/resume-writing-3-2-2-2-2-2-2-2-2/
LOCATION:Employment Solutions\, 3 Esat Main St\, Welland\, Canada
CATEGORIES:Workshops
END:VEVENT
BEGIN:VEVENT
DTSTART;TZID=America/Toronto:20150220T140000
DTEND;TZID=America/Toronto:20150220T150000
DTSTAMP:20260422T025231
CREATED:20140417T132045Z
LAST-MODIFIED:20140417T132045Z
UID:1568-1424440800-1424444400@www.employment-solutions.org
SUMMARY:Second Career Info Session
DESCRIPTION:Second Career is an Ontario government program that enables laid off Ontarian s to train for a new job that is in high demand. \nPlease call 905 788 3751 to register.
URL:https://www.employment-solutions.org/event/second-career-info-session-8-3-2-2-2-2-2-2-4-2-3-2-2-5-3-2-3-2-2-2/
LOCATION:Employment Solutions\, 3 East Main Street\, Welland\, Ontario\, L3B 3W4\, Canada
CATEGORIES:Workshops
END:VEVENT
BEGIN:VEVENT
DTSTART;TZID=America/Toronto:20150220T140000
DTEND;TZID=America/Toronto:20150220T150000
DTSTAMP:20260422T025231
CREATED:20140417T132045Z
LAST-MODIFIED:20140417T132045Z
UID:1626-1424440800-1424444400@www.employment-solutions.org
SUMMARY:Second Career Info Session
DESCRIPTION:Second Career is an Ontario government program that enables laid off Ontarian s to train for a new job that is in high demand. \nPlease call 905 788 3751 to register.
URL:https://www.employment-solutions.org/event/second-career-info-session-8-3-2-2-2-2-2-2-4-2-3-2-2-5-3-2-3-2-2-2-2/
LOCATION:Employment Solutions\, 3 East Main Street\, Welland\, Ontario\, L3B 3W4\, Canada
CATEGORIES:Workshops
END:VEVENT
BEGIN:VEVENT
DTSTART;TZID=America/Toronto:20150219T100000
DTEND;TZID=America/Toronto:20150219T110000
DTSTAMP:20260422T025231
CREATED:20140417T132045Z
LAST-MODIFIED:20140417T132045Z
UID:1576-1424340000-1424343600@www.employment-solutions.org
SUMMARY:OSEB info session
DESCRIPTION:Are you out of work & EI eligible? Do you have a business Idea? The Ontario Self-Employment Benefit Program could be the opportunity you have been looking for. \nPlease call 905-788-3751 to register.
URL:https://www.employment-solutions.org/event/second-career-info-session-8-3-2-2-2-2-2-2-4-2-3-2-2-2-2-2-2-2/
LOCATION:Employment Solutions\, 3 East Main Street\, Welland\, Ontario\, L3B 3W4\, Canada
CATEGORIES:Workshops
END:VEVENT
BEGIN:VEVENT
DTSTART;TZID=America/Toronto:20150218T090000
DTEND;TZID=America/Toronto:20150219T161500
DTSTAMP:20260422T025231
CREATED:20140307T140043Z
LAST-MODIFIED:20140307T140043Z
UID:1636-1424250000-1424362500@www.employment-solutions.org
SUMMARY:First Aid/CPR-Level C/AED
DESCRIPTION:Standard First Aid \nDesigned to meet Industry\, business and government requirements. Cardiopulmonary Resuscitation (CPR) and Automated External Defibrillation (AED) is a life saving technique that is revolutionizing first aid and pre-hospital cardiac care. \nTwo day Course \nPlease call 905-788-3751 to register.
URL:https://www.employment-solutions.org/event/first-aidcpr-2-2-2-2-2-2-2-2-2-2-2/
LOCATION:Employment Solutions\, 825 Ontario Rd.\, Welland\, Ontario\, L3B 5V6\, Canada
CATEGORIES:Certificate Training
END:VEVENT
BEGIN:VEVENT
DTSTART;TZID=America/Toronto:20150211T093000
DTEND;TZID=America/Toronto:20150211T120000
DTSTAMP:20260422T025231
CREATED:20140204T211439Z
LAST-MODIFIED:20140204T211439Z
UID:1571-1423647000-1423656000@www.employment-solutions.org
SUMMARY:WHMIS Training
DESCRIPTION:WHMIS Certificate training will provide the learner: \nThe meaning of Workplace Hazardous Materials Information System and how it works \nThe responsibilities of the supplier\, employer and worker \nThe classes of hazardous materials \nThe effects of hazardous materials \nAppropriate emergency responses for a variety of hazardous materials \nHow to read and interpret standardized WHMIS labeling\, marking and other identification methods \nHow to read and interpret WHMIS Materials Safety Data Sheets (MSDS) \nHow to improve safe working conditions and safe work practices \n  \nPlease call 905 788 3751 to register.
URL:https://www.employment-solutions.org/event/whmis-training-2-2-2-2-3-2-2-3-2-2/
LOCATION:Employment Solutions\, 3 East Main Street\, Welland\, Ontario\, L3B3W4\, Canada
CATEGORIES:Certificate Training
ORGANIZER;CN="":MAILTO:reception@employment-solutions.org
END:VEVENT
BEGIN:VEVENT
DTSTART;TZID=America/Toronto:20150209T110000
DTEND;TZID=America/Toronto:20150209T160000
DTSTAMP:20260422T025231
CREATED:20140417T122001Z
LAST-MODIFIED:20140417T122001Z
UID:1585-1423479600-1423497600@www.employment-solutions.org
SUMMARY:DRESS FOR SUCCESS
DESCRIPTION:Are you confused as to what looks good on you or how to leave a positive impression to potential employers? Jola assists individuals in finding their unique style that projects confidences and assurance\, creating a powerful first impression to potential employers. \nCome for your FREE consultation and FREE outfit. Two appointments are required. \nCall 905-788-3751 to register.
URL:https://www.employment-solutions.org/event/dress-for-success-2-2/
LOCATION:Employment Solutions\, 3 East Main Street\, Welland\, L3B3W4\, Canada
CATEGORIES:Workshops
END:VEVENT
BEGIN:VEVENT
DTSTART;TZID=America/Toronto:20150209T100000
DTEND;TZID=America/Toronto:20150209T110000
DTSTAMP:20260422T025231
CREATED:20140307T141451Z
LAST-MODIFIED:20140307T141451Z
UID:1569-1423476000-1423479600@www.employment-solutions.org
SUMMARY:Resume Clinic
DESCRIPTION:Many job seekers don’t know what it takes to stand out from their competition and leave a lasting impression on employers. Our knowledgeable and talented staff are #1 in assisting clients with writing the best resumes. If you need a new resume or an update to the one you have\, this workshop is for you! \nPlease call 905 788 3751 to register.
URL:https://www.employment-solutions.org/event/resume-writing-3-2-2-2-2-2-2/
LOCATION:Employment Solutions\, 3 Esat Main St\, Welland\, Canada
CATEGORIES:Workshops
END:VEVENT
BEGIN:VEVENT
DTSTART;TZID=America/Toronto:20150206T100000
DTEND;TZID=America/Toronto:20150206T110000
DTSTAMP:20260422T025231
CREATED:20140417T132045Z
LAST-MODIFIED:20140417T132045Z
UID:1567-1423216800-1423220400@www.employment-solutions.org
SUMMARY:Second Career Info Session
DESCRIPTION:Second Career is an Ontario government program that enables laid off Ontarian s to train for a new job that is in high demand. \nPlease call 905 788 3751 to register.
URL:https://www.employment-solutions.org/event/second-career-info-session-8-3-2-2-2-2-2-2-4-2-3-2-2-5-3-2-3-2-2/
LOCATION:Employment Solutions\, 3 East Main Street\, Welland\, Ontario\, L3B 3W4\, Canada
CATEGORIES:Workshops
END:VEVENT
BEGIN:VEVENT
DTSTART;TZID=America/Toronto:20150130T100000
DTEND;TZID=America/Toronto:20150130T110000
DTSTAMP:20260422T025231
CREATED:20140417T132045Z
LAST-MODIFIED:20140417T132045Z
UID:1479-1422612000-1422615600@www.employment-solutions.org
SUMMARY:Second Career Info Session
DESCRIPTION:Second Career is an Ontario government program that enables laid off Ontarian s to train for a new job that is in high demand. \nPlease call 905 788 3751 to register.
URL:https://www.employment-solutions.org/event/second-career-info-session-8-3-2-2-2-2-2-2-4-2-3-2-2-5-3-2-3-2/
LOCATION:Employment Solutions\, 3 East Main Street\, Welland\, Ontario\, L3B 3W4\, Canada
CATEGORIES:Workshops
END:VEVENT
BEGIN:VEVENT
DTSTART;TZID=America/Toronto:20150128T090000
DTEND;TZID=America/Toronto:20150129T150000
DTSTAMP:20260422T025231
CREATED:20140311T140106Z
LAST-MODIFIED:20140311T140106Z
UID:1481-1422435600-1422543600@www.employment-solutions.org
SUMMARY:Safe Food Handling
DESCRIPTION:This certificate will provide the learner the general principals of safe food handling including topics such as public health legislation\, food microbiology\, food allergies\, temperature controls\, cross contamination\, personal hygiene\, cleaning and sanitizing. \nPlease call 905-788-3751 to register.
URL:https://www.employment-solutions.org/event/safe-food-handling-3-2-2/
LOCATION:Employment Solutions\, 825 Ontario Rd.\, Welland\, Ontario\, L3B 5V6\, Canada
CATEGORIES:Certificate Training
END:VEVENT
BEGIN:VEVENT
DTSTART;TZID=America/Toronto:20150121T090000
DTEND;TZID=America/Toronto:20150122T161500
DTSTAMP:20260422T025231
CREATED:20140307T140043Z
LAST-MODIFIED:20140307T140043Z
UID:1480-1421830800-1421943300@www.employment-solutions.org
SUMMARY:First Aid/CPR-Level C/AED
DESCRIPTION:Standard First Aid \nDesigned to meet Industry\, business and government requirements. Cardiopulmonary Resuscitation (CPR) and Automated External Defibrillation (AED) is a life saving technique that is revolutionizing first aid and pre-hospital cardiac care. \nTwo day Course
URL:https://www.employment-solutions.org/event/first-aidcpr-2-2-2-2-2-2-2-2-2/
LOCATION:Employment Solutions\, 825 Ontario Rd.\, Welland\, Ontario\, L3B 5V6\, Canada
CATEGORIES:Certificate Training
END:VEVENT
BEGIN:VEVENT
DTSTART;TZID=America/Toronto:20150119T100000
DTEND;TZID=America/Toronto:20150119T110000
DTSTAMP:20260422T025231
CREATED:20140307T141451Z
LAST-MODIFIED:20140307T141451Z
UID:1475-1421661600-1421665200@www.employment-solutions.org
SUMMARY:Resume Clinic
DESCRIPTION:Many job seekers don’t know what it takes to stand out from their competition and leave a lasting impression on employers. Our knowledgeable and talented staff are #1 in assisting clients with writing the best resumes. If you need a new resume or an update to the one you have\, this workshop is for you! \nPlease call 905 788 3751 to register.
URL:https://www.employment-solutions.org/event/resume-writing-3-2-2-2-2-2/
LOCATION:Employment Solutions\, 3 Esat Main St\, Welland\, Canada
CATEGORIES:Workshops
END:VEVENT
BEGIN:VEVENT
DTSTART;TZID=America/Toronto:20150116T140000
DTEND;TZID=America/Toronto:20150116T150000
DTSTAMP:20260422T025231
CREATED:20140417T132045Z
LAST-MODIFIED:20140417T132045Z
UID:1478-1421416800-1421420400@www.employment-solutions.org
SUMMARY:Second Career Info Session
DESCRIPTION:Second Career is an Ontario government program that enables laid off Ontarian s to train for a new job that is in high demand. \nPlease call 905 788 3751 to register.
URL:https://www.employment-solutions.org/event/second-career-info-session-8-3-2-2-2-2-2-2-4-2-3-2-2-5-3-2-3/
LOCATION:Employment Solutions\, 3 East Main Street\, Welland\, Ontario\, L3B 3W4\, Canada
CATEGORIES:Workshops
END:VEVENT
BEGIN:VEVENT
DTSTART;TZID=America/Toronto:20150115T100000
DTEND;TZID=America/Toronto:20150115T110000
DTSTAMP:20260422T025231
CREATED:20140417T132045Z
LAST-MODIFIED:20140417T132045Z
UID:1496-1421316000-1421319600@www.employment-solutions.org
SUMMARY:OSEB info session
DESCRIPTION:Are you out of work & EI eligible? Do you have a business Idea? The Ontario Self-Employment Benefit Program could be the opportunity you have been looking for.
URL:https://www.employment-solutions.org/event/second-career-info-session-8-3-2-2-2-2-2-2-4-2-3-2-2-2-2-2-2/
LOCATION:Employment Solutions\, 3 East Main Street\, Welland\, Ontario\, L3B 3W4\, Canada
CATEGORIES:Workshops
END:VEVENT
BEGIN:VEVENT
DTSTART;TZID=America/Toronto:20150107T093000
DTEND;TZID=America/Toronto:20150107T123000
DTSTAMP:20260422T025231
CREATED:20140204T211439Z
LAST-MODIFIED:20140204T211439Z
UID:1477-1420623000-1420633800@www.employment-solutions.org
SUMMARY:WHMIS Training
DESCRIPTION:WHMIS Certificate training will provide the learner: \nThe meaning of Workplace Hazardous Materials Information System and how it works \nThe responsibilities of the supplier\, employer and worker \nThe classes of hazardous materials \nThe effects of hazardous materials \nAppropriate emergency responses for a variety of hazardous materials \nHow to read and interpret standardized WHMIS labeling\, marking and other identification methods \nHow to read and interpret WHMIS Materials Safety Data Sheets (MSDS) \nHow to improve safe working conditions and safe work practices \n  \nPlease call 905 788 3751 to register.
URL:https://www.employment-solutions.org/event/whmis-training-2-2-2-2-3-2-2-3-2/
LOCATION:Employment Solutions\, 3 East Main Street\, Welland\, Ontario\, L3B3W4\, Canada
CATEGORIES:Certificate Training
ORGANIZER;CN="":MAILTO:reception@employment-solutions.org
END:VEVENT
BEGIN:VEVENT
DTSTART;TZID=America/Toronto:20150105T100000
DTEND;TZID=America/Toronto:20150105T110000
DTSTAMP:20260422T025231
CREATED:20140307T141451Z
LAST-MODIFIED:20140307T141451Z
UID:1474-1420452000-1420455600@www.employment-solutions.org
SUMMARY:Resume Clinic
DESCRIPTION:Many job seekers don’t know what it takes to stand out from their competition and leave a lasting impression on employers. Our knowledgeable and talented staff are #1 in assisting clients with writing the best resumes. If you need a new resume or an update to the one you have\, this workshop is for you! \nPlease call 905 788 3751 to register.
URL:https://www.employment-solutions.org/event/resume-writing-3-2-2-2-2/
LOCATION:Employment Solutions\, 3 Esat Main St\, Welland\, Canada
CATEGORIES:Workshops
END:VEVENT
BEGIN:VEVENT
DTSTART;TZID=America/Toronto:20141215T100000
DTEND;TZID=America/Toronto:20141215T110000
DTSTAMP:20260422T025231
CREATED:20140307T141451Z
LAST-MODIFIED:20140307T141451Z
UID:1440-1418637600-1418641200@www.employment-solutions.org
SUMMARY:Resume Clinic
DESCRIPTION:Many job seekers don’t know what it takes to stand out from their competition and leave a lasting impression on employers. Our knowledgeable and talented staff are #1 in assisting clients with writing the best resumes. If you need a new resume or an update to the one you have\, this workshop is for you! \nPlease call 905 788 3751 for more information.
URL:https://www.employment-solutions.org/event/resume-writing-3-2-2-2/
LOCATION:Employment Solutions\, 3 Esat Main St\, Welland\, Canada
CATEGORIES:Workshops
END:VEVENT
BEGIN:VEVENT
DTSTART;TZID=America/Toronto:20141210T093000
DTEND;TZID=America/Toronto:20141210T123000
DTSTAMP:20260422T025231
CREATED:20140204T211439Z
LAST-MODIFIED:20140204T211439Z
UID:1439-1418203800-1418214600@www.employment-solutions.org
SUMMARY:WHMIS Training
DESCRIPTION:WHMIS Certificate training will provide the learner: \nThe meaning of Workplace Hazardous Materials Information System and how it works \nThe responsibilities of the supplier\, employer and worker \nThe classes of hazardous materials \nThe effects of hazardous materials \nAppropriate emergency responses for a variety of hazardous materials \nHow to read and interpret standardized WHMIS labeling\, marking and other identification methods \nHow to read and interpret WHMIS Materials Safety Data Sheets (MSDS) \nHow to improve safe working conditions and safe work practices \n  \nPlease call 905 788 3751 for more information.
URL:https://www.employment-solutions.org/event/whmis-training-2-2-2-2-3-2-2-3/
LOCATION:Employment Solutions\, 3 East Main Street\, Welland\, Ontario\, L3B3W4\, Canada
CATEGORIES:Certificate Training
ORGANIZER;CN="":MAILTO:reception@employment-solutions.org
END:VEVENT
BEGIN:VEVENT
DTSTART;TZID=America/Toronto:20141205T100000
DTEND;TZID=America/Toronto:20141205T110000
DTSTAMP:20260422T025231
CREATED:20140417T132045Z
LAST-MODIFIED:20140417T132045Z
UID:1437-1417773600-1417777200@www.employment-solutions.org
SUMMARY:Second Career Info Session
DESCRIPTION:Second Career is an Ontario government program that enables laid off Ontarian s to train for a new job that is in high demand. \nPlease call 905 788 3751 for more information.
URL:https://www.employment-solutions.org/event/second-career-info-session-8-3-2-2-2-2-2-2-4-2-3-2-2-5-3-2/
LOCATION:Employment Solutions\, 3 East Main Street\, Welland\, Ontario\, L3B 3W4\, Canada
CATEGORIES:Workshops
END:VEVENT
BEGIN:VEVENT
DTSTART;TZID=America/Toronto:20141201T100000
DTEND;TZID=America/Toronto:20141201T110000
DTSTAMP:20260422T025231
CREATED:20140307T141451Z
LAST-MODIFIED:20140307T141451Z
UID:1436-1417428000-1417431600@www.employment-solutions.org
SUMMARY:Resume Clinic
DESCRIPTION:Many job seekers don’t know what it takes to stand out from their competition and leave a lasting impression on employers. Our knowledgeable and talented staff are #1 in assisting clients with writing the best resumes. If you need a new resume or an update to the one you have\, this workshop is for you! \nPlease call 905 788 3751 for more information.
URL:https://www.employment-solutions.org/event/resume-writing-3-2-2/
LOCATION:Employment Solutions\, 3 Esat Main St\, Welland\, Canada
CATEGORIES:Workshops
END:VEVENT
BEGIN:VEVENT
DTSTART;TZID=America/Toronto:20141128T100000
DTEND;TZID=America/Toronto:20141128T110000
DTSTAMP:20260422T025231
CREATED:20140417T132045Z
LAST-MODIFIED:20140417T132045Z
UID:1385-1417168800-1417172400@www.employment-solutions.org
SUMMARY:Second Career Info Session
DESCRIPTION:Second Career is an Ontario government program that enables laid off Ontarian s to train for a new job that is in high demand.
URL:https://www.employment-solutions.org/event/second-career-info-session-8-3-2-2-2-2-2-2-4-2-3-2-2-5-3/
LOCATION:Employment Solutions\, 3 East Main Street\, Welland\, Ontario\, L3B 3W4\, Canada
CATEGORIES:Workshops
END:VEVENT
BEGIN:VEVENT
DTSTART;TZID=America/Toronto:20141127T130000
DTEND;TZID=America/Toronto:20141127T150000
DTSTAMP:20260422T025231
CREATED:20141107T154227Z
LAST-MODIFIED:20141107T154227Z
UID:1414-1417093200-1417100400@www.employment-solutions.org
SUMMARY:THE OFFICE OF THE FAIRNESS COMMISSIONER OF ONTARIO
DESCRIPTION:Are You an Internationally Trained Professional? \nor \nDo You Work With Internationally Trained Professionals? \nIf you answered YES to either of the above questions\, then this information session is for you!!! \nTHE OFFICE OF THE FAIRNESS COMMISSIONER OF ONTARIO will be coming to Welland. The office oversees regulatory bodies to make sure their licensing is transparent\, objective\, impartial and fair. The office was set up under the Fair Access to Regulated Professions Act. Its goal is straight forward. It is to make sure that a qualified person who wants to practise a profession in Ontario can get a licence to do so. \nREGISTRATION: Call 905-788-3751 to register. Space is limited so register early!! \n Currently 15 non-health professions and 22 compulsory trades are covered by the Fair Access to Regulated Professions and Compulsory Trades Act\, 2006\, and 26 health professions are covered by the Regulated Health Professions Act\, 1991\, as amended. \n\nOntario Association of ARCHITECTS\nCollege of AUDIOLOGISTS AND SPEECH-LANGUAGE PATHOLOGISTS of Ontario\nInstitute of CHARTERED ACCOUNTANTS of Ontario\nCollege of CHIROPODISTS of Ontario\nCollege of CHIROPRACTORS of Ontario\nCollege of DENTAL HYGIENISTS of Ontario\nRoyal College of DENTAL SURGEONS of Ontario\nCollege of DENTAL TECHNOLOGISTS of Ontario\nCollege of DENTURISTS of Ontario\nCollege of DIETITIANS of Ontario\nCollege of EARLY CHILDHOOD EDUCATORS\nOntario Association of Certified ENGINEERING TECHNICIANS AND TECHNOLOGISTS\nProfessional ENGINEERS Ontario\nOntario Professional FORESTERS Association\nCertified GENERAL ACCOUNTANTS of Ontario\nAssociation of Professional GEOSCIENTISTS of Ontario\nCollege of HOMEOPATHS of Ontario\nHUMAN RESOURCES PROFESSIONALS Association\nCollege of KINESIOLOGISTS of Ontario\nAssociation of Ontario LAND SURVEYORS\nLAW Society of Upper Canada\nCertified MANAGEMENT ACCOUNTANTS of Ontario\nCollege of MASSAGE THERAPISTS of Ontario\nCollege of MEDICAL LABORATORY TECHNOLOGISTS of Ontario\nCollege of MEDICAL RADIATION TECHNOLOGISTS of Ontario\nCollege of MIDWIVES of Ontario\nCollege of NATUROPATHS of Ontario\nCollege of NURSES of Ontario\nCollege of OCCUPATIONAL THERAPISTS of Ontario\nCollege of OPTICIANS of Ontario\nCollege of OPTOMETRISTS of Ontario\nOntario College of PHARMACISTS\nCollege of PHYSICIANS AND SURGEONS of Ontario\nCollege of PHYSIOTHERAPISTS of Ontario\nCollege of PSYCHOLOGISTS of Ontario\nCollege of Registered PSYCHOTHERAPISTS of Ontario\nCollege of RESPIRATORY THERAPISTS of Ontario\nOntario College of SOCIAL WORKERS AND SOCIAL SERVICE WORKERS\nOntario College of TEACHERS\nOntario College of TRADES\nCollege of TRADITIONAL CHINESE MEDICINE PRACTITIONERS AND ACUPUNCTURISTS of Ontario\nCollege of VETERINARIANS of Ontario
URL:https://www.employment-solutions.org/event/the-office-of-the-fairness-commissioner-of-ontario/
LOCATION:Employment Solution\, 825 Ontario Rd.\, Welland\, Ontario\, L3B 5V6\, Canada
ORGANIZER;CN="Employment Solutions Seaway":MAILTO:seawayreception@employment-solutions.org
END:VEVENT
BEGIN:VEVENT
DTSTART;TZID=America/Toronto:20141126T170000
DTEND;TZID=America/Toronto:20141126T183000
DTSTAMP:20260422T025231
CREATED:20141002T145341Z
LAST-MODIFIED:20141002T145341Z
UID:1377-1417021200-1417026600@www.employment-solutions.org
SUMMARY:Newcomers to Canada-Employment Standards/ Human Rights
DESCRIPTION:Employment Standards and More \n  \nDo you know the laws that protect you as an employee (The Employment Standards Act). We will also discuss Human Rights? This workshop will review what you need to know and will also discuss Canada Pension and payroll deductions. \n 
URL:https://www.employment-solutions.org/event/newcomers-to-canada-interview-skills-2-2-2-2/
LOCATION:Ontario
CATEGORIES:Workshops
END:VEVENT
BEGIN:VEVENT
DTSTART;TZID=America/Toronto:20141125T140000
DTEND;TZID=America/Toronto:20141125T160000
DTSTAMP:20260422T025231
CREATED:20141107T155734Z
LAST-MODIFIED:20141107T155734Z
UID:1417-1416924000-1416931200@www.employment-solutions.org
SUMMARY:CELEBRATE THE SEASON – 4th ANNUAL OPEN HOUSE
DESCRIPTION:Employment Solutions Holiday Open House\nMeet our staff\, tour our facility and enjoy some refreshments!\nPlease RSVP by November 20th\, 2014\n(905-788-3751) or e-mail: drice@employment-solutions.org\nThis Employment Ontario Service is funded in part by the Government of Canada
URL:https://www.employment-solutions.org/event/celebrate-the-season-4th-annual-open-house/
LOCATION:Unnamed Venue\, 3 East Main St\, Welland
ORGANIZER;CN="Employment Solutions - Rose City Plaza":MAILTO:reception@employment-solutions.org
END:VEVENT
BEGIN:VEVENT
DTSTART;TZID=America/Toronto:20141119T170000
DTEND;TZID=America/Toronto:20141119T183000
DTSTAMP:20260422T025231
CREATED:20141002T145341Z
LAST-MODIFIED:20141002T145341Z
UID:1375-1416416400-1416421800@www.employment-solutions.org
SUMMARY:Newcomers to Canada-Stress Management
DESCRIPTION:Stress Management \n  \nWe all have stress in our lives. Did you know that there is good stress and bad stress? This workshop will teach you to recognize stress and how to manage it\, including tips on relaxing.
URL:https://www.employment-solutions.org/event/newcomers-to-canada-interview-skills-2-2-2/
LOCATION:Ontario
CATEGORIES:Workshops
END:VEVENT
BEGIN:VEVENT
DTSTART;TZID=America/Toronto:20141119T140000
DTEND;TZID=America/Toronto:20141119T153000
DTSTAMP:20260422T025231
CREATED:20140417T132045Z
LAST-MODIFIED:20140417T132045Z
UID:1388-1416405600-1416411000@www.employment-solutions.org
SUMMARY:OSEB info session
DESCRIPTION:Are you out of work & EI eligible? Do you have a business Idea? The Ontario Self-Employment Benefit Program could be the opportunity you have been looking for.
URL:https://www.employment-solutions.org/event/second-career-info-session-8-3-2-2-2-2-2-2-4-2-3-2-2-2-2-2/
LOCATION:Employment Solutions\, 3 East Main Street\, Welland\, Ontario\, L3B 3W4\, Canada
CATEGORIES:Workshops
END:VEVENT
END:VCALENDAR